BEGIN:VCALENDAR
VERSION:2.0
PRODID:-//galeria17 - ECPv6.15.16.1//NONSGML v1.0//EN
CALSCALE:GREGORIAN
METHOD:PUBLISH
X-WR-CALNAME:galeria17
X-ORIGINAL-URL:https://galeria17.org/en/
X-WR-CALDESC:Events for galeria17
REFRESH-INTERVAL;VALUE=DURATION:PT1H
X-Robots-Tag:noindex
X-PUBLISHED-TTL:PT1H
BEGIN:VTIMEZONE
TZID:UTC
BEGIN:STANDARD
TZOFFSETFROM:+0000
TZOFFSETTO:+0000
TZNAME:UTC
DTSTART:20210101T000000
END:STANDARD
END:VTIMEZONE
BEGIN:VEVENT
DTSTART;TZID=UTC:20231017T190000
DTEND;TZID=UTC:20231201T170000
DTSTAMP:20260424T203817
CREATED:20231012T111854Z
LAST-MODIFIED:20231012T111854Z
UID:4683-1697569200-1701450000@galeria17.org
SUMMARY:In the Making II / Opening of the exhibition
DESCRIPTION:
URL:https://galeria17.org/en/event/in-the-making-ii-opening-of-the-exhibition/
END:VEVENT
BEGIN:VEVENT
DTSTART;TZID=UTC:20231003T150000
DTEND;TZID=UTC:20231003T150000
DTSTAMP:20260424T203818
CREATED:20230925T150043Z
LAST-MODIFIED:20230925T150043Z
UID:4643-1696345200-1696345200@galeria17.org
SUMMARY:Marie Vermont - Open studio
DESCRIPTION:
URL:https://galeria17.org/en/event/marie-vermont-open-studio/
END:VEVENT
BEGIN:VEVENT
DTSTART;TZID=UTC:20231002T110000
DTEND;TZID=UTC:20231002T170000
DTSTAMP:20260424T203818
CREATED:20230925T145709Z
LAST-MODIFIED:20230925T145709Z
UID:4637-1696244400-1696266000@galeria17.org
SUMMARY:Dardan Zhegrova - Open studio
DESCRIPTION:
URL:https://galeria17.org/en/event/dardan-zhegrova-open-studio-2/
END:VEVENT
BEGIN:VEVENT
DTSTART;TZID=UTC:20230927T110000
DTEND;TZID=UTC:20230927T170000
DTSTAMP:20260424T203818
CREATED:20230925T145548Z
LAST-MODIFIED:20230925T145548Z
UID:4635-1695812400-1695834000@galeria17.org
SUMMARY:Dardan Zhegrova - Open studio
DESCRIPTION:
URL:https://galeria17.org/en/event/dardan-zhegrova-open-studio/
END:VEVENT
BEGIN:VEVENT
DTSTART;TZID=UTC:20230905T180000
DTEND;TZID=UTC:20230905T190000
DTSTAMP:20260424T203818
CREATED:20230829T120207Z
LAST-MODIFIED:20230829T120523Z
UID:4605-1693936800-1693940400@galeria17.org
SUMMARY:Info session: Pop-up Art Week
DESCRIPTION:
URL:https://galeria17.org/en/event/info-session-pop-up-art-week/
END:VEVENT
BEGIN:VEVENT
DTSTART;TZID=UTC:20230706T190000
DTEND;TZID=UTC:20230706T200000
DTSTAMP:20260424T203818
CREATED:20230704T101706Z
LAST-MODIFIED:20230704T101706Z
UID:4546-1688670000-1688673600@galeria17.org
SUMMARY:Curator Talk: Everything has been done
DESCRIPTION:
URL:https://galeria17.org/en/event/curator-talk-everything-has-been-done/
END:VEVENT
BEGIN:VEVENT
DTSTART;TZID=UTC:20230705T190000
DTEND;TZID=UTC:20230915T190000
DTSTAMP:20260424T203818
CREATED:20230629T145521Z
LAST-MODIFIED:20230629T145521Z
UID:4504-1688583600-1694804400@galeria17.org
SUMMARY:Back to the Gorges of Balkan
DESCRIPTION:
URL:https://galeria17.org/en/event/back-to-the-gorges-of-balkan/
END:VEVENT
BEGIN:VEVENT
DTSTART;TZID=UTC:20230524T180000
DTEND;TZID=UTC:20230524T193000
DTSTAMP:20260424T203818
CREATED:20230523T120012Z
LAST-MODIFIED:20230523T120012Z
UID:4433-1684951200-1684956600@galeria17.org
SUMMARY:Panel discussion: Transhumanist intersecting explorations through art\, culture\, technology
DESCRIPTION:
URL:https://galeria17.org/en/event/panel-discussion-transhumanist-intersecting-explorations-through-art-culture-technology/
END:VEVENT
BEGIN:VEVENT
DTSTART;TZID=UTC:20230518T180000
DTEND;TZID=UTC:20230518T193000
DTSTAMP:20260424T203818
CREATED:20230512T123404Z
LAST-MODIFIED:20230512T123404Z
UID:4363-1684432800-1684438200@galeria17.org
SUMMARY:Public Lecture: Prototyping Futures with Art & Technology
DESCRIPTION:
URL:https://galeria17.org/en/event/public-lecture-prototyping-futures-with-art-technology/
END:VEVENT
BEGIN:VEVENT
DTSTART;TZID=UTC:20230517T180000
DTEND;TZID=UTC:20230517T193000
DTSTAMP:20260424T203818
CREATED:20230511T100555Z
LAST-MODIFIED:20230511T100748Z
UID:4357-1684346400-1684351800@galeria17.org
SUMMARY:Public lecture: The Border Sublime
DESCRIPTION:
URL:https://galeria17.org/en/event/public-lecture-the-border-sublime/
END:VEVENT
BEGIN:VEVENT
DTSTART;TZID=UTC:20230406T190000
DTEND;TZID=UTC:20230406T200000
DTSTAMP:20260424T203818
CREATED:20230403T115440Z
LAST-MODIFIED:20230403T115440Z
UID:4296-1680807600-1680811200@galeria17.org
SUMMARY:Artist talk: S()fia Braga
DESCRIPTION:
URL:https://galeria17.org/en/event/artist-talk-sfia-braga/
END:VEVENT
BEGIN:VEVENT
DTSTART;TZID=UTC:20230404T100000
DTEND;TZID=UTC:20230622T170000
DTSTAMP:20260424T203818
CREATED:20230327T124549Z
LAST-MODIFIED:20230327T124549Z
UID:4262-1680602400-1687453200@galeria17.org
SUMMARY:Forehead Vulva Channeling Research
DESCRIPTION:
URL:https://galeria17.org/en/event/forehead-vulva-channeling-research/
END:VEVENT
BEGIN:VEVENT
DTSTART;TZID=UTC:20230319T120000
DTEND;TZID=UTC:20230319T150000
DTSTAMP:20260424T203818
CREATED:20230313T154036Z
LAST-MODIFIED:20230313T154036Z
UID:4139-1679227200-1679238000@galeria17.org
SUMMARY:Family visits at Galeria 17
DESCRIPTION:
URL:https://galeria17.org/en/event/family-visits-at-galeria-17/
END:VEVENT
BEGIN:VEVENT
DTSTART;TZID=UTC:20230316T180000
DTEND;TZID=UTC:20230316T193000
DTSTAMP:20260424T203818
CREATED:20230313T153817Z
LAST-MODIFIED:20230313T153817Z
UID:4137-1678989600-1678995000@galeria17.org
SUMMARY:Lecture / Echoes of the Past: Sound\, History\, and Memory
DESCRIPTION:
URL:https://galeria17.org/en/event/lecture-echoes-of-the-past-sound-history-and-memory/
END:VEVENT
BEGIN:VEVENT
DTSTART;TZID=UTC:20230313T093000
DTEND;TZID=UTC:20230313T160000
DTSTAMP:20260424T203818
CREATED:20230306T153705Z
LAST-MODIFIED:20230306T153705Z
UID:4132-1678699800-1678723200@galeria17.org
SUMMARY:Workshop / Memory and Sound: Recording\, Listening and Editing of Soundscapes
DESCRIPTION:
URL:https://galeria17.org/en/event/workshop-memory-and-sound-recording-listening-and-editing-of-soundscapes/
END:VEVENT
BEGIN:VEVENT
DTSTART;TZID=UTC:20230302T180000
DTEND;TZID=UTC:20230302T193000
DTSTAMP:20260424T203818
CREATED:20230224T105836Z
LAST-MODIFIED:20230224T111046Z
UID:4107-1677780000-1677785400@galeria17.org
SUMMARY:Discussion between creative mediator and artists
DESCRIPTION:
URL:https://galeria17.org/en/event/discussion-between-creative-mediator-and-artists/
LOCATION:Prishtine\, pr\, Prishtina\, Kosova\, 10000\, Albania
END:VEVENT
BEGIN:VEVENT
DTSTART;TZID=UTC:20230208T190000
DTEND;TZID=UTC:20230208T203000
DTSTAMP:20260424T203818
CREATED:20230202T132242Z
LAST-MODIFIED:20230202T132242Z
UID:4040-1675882800-1675888200@galeria17.org
SUMMARY:Music performance: Viola Rrecaj
DESCRIPTION:
URL:https://galeria17.org/en/event/music-performance-viola-rrecaj/
END:VEVENT
BEGIN:VEVENT
DTSTART;TZID=UTC:20230208T190000
DTEND;TZID=UTC:20230208T203000
DTSTAMP:20260424T203818
CREATED:20230202T131245Z
LAST-MODIFIED:20230209T114752Z
UID:4101-1675882800-1675888200@galeria17.org
SUMMARY:Music performance: Viola Rrecaj
DESCRIPTION:
URL:https://galeria17.org/en/event/music-performance-viola-rrecaj-2/
END:VEVENT
BEGIN:VEVENT
DTSTART;TZID=UTC:20230124T100000
DTEND;TZID=UTC:20230324T170000
DTSTAMP:20260424T203818
CREATED:20230118T150405Z
LAST-MODIFIED:20230118T150536Z
UID:3962-1674554400-1679677200@galeria17.org
SUMMARY:PËRPARA
DESCRIPTION:
URL:https://galeria17.org/en/event/perpara/
END:VEVENT
BEGIN:VEVENT
DTSTART;TZID=UTC:20230113T190000
DTEND;TZID=UTC:20230113T203000
DTSTAMP:20260424T203818
CREATED:20230111T151127Z
LAST-MODIFIED:20230111T151212Z
UID:3943-1673636400-1673641800@galeria17.org
SUMMARY:Artist Talk: Yll Xhaferi & DYVÓ
DESCRIPTION:
URL:https://galeria17.org/en/event/artist-talk-yll-xhaferi-dyvo/
END:VEVENT
BEGIN:VEVENT
DTSTART;TZID=UTC:20221223T190000
DTEND;TZID=UTC:20221223T210000
DTSTAMP:20260424T203818
CREATED:20221219T094433Z
LAST-MODIFIED:20221219T094433Z
UID:3921-1671822000-1671829200@galeria17.org
SUMMARY:PLAYTRONICA session
DESCRIPTION:
URL:https://galeria17.org/en/event/playtronica-session/
END:VEVENT
BEGIN:VEVENT
DTSTART;TZID=UTC:20221221T190000
DTEND;TZID=UTC:20221221T200000
DTSTAMP:20260424T203818
CREATED:20221216T144442Z
LAST-MODIFIED:20221216T144442Z
UID:3909-1671649200-1671652800@galeria17.org
SUMMARY:Everything We Do Is Really\, Really Brilliant
DESCRIPTION:
URL:https://galeria17.org/en/event/everything-we-do-is-really-really-brilliant/
END:VEVENT
BEGIN:VEVENT
DTSTART;TZID=UTC:20221218T120000
DTEND;TZID=UTC:20221218T150000
DTSTAMP:20260424T203818
CREATED:20221215T102030Z
LAST-MODIFIED:20221215T110706Z
UID:3896-1671364800-1671375600@galeria17.org
SUMMARY:Family visit at Galeria 17
DESCRIPTION:
URL:https://galeria17.org/en/event/vizite-familjare-ne-galeria-17/
END:VEVENT
BEGIN:VEVENT
DTSTART;TZID=UTC:20221212T180000
DTEND;TZID=UTC:20221212T190000
DTSTAMP:20260424T203818
CREATED:20221209T115243Z
LAST-MODIFIED:20221209T115334Z
UID:3881-1670868000-1670871600@galeria17.org
SUMMARY:Global warming\, local cooling. Global cooling\, local warming.
DESCRIPTION:
URL:https://galeria17.org/en/event/global-warming-local-cooling-global-cooling-local-warming/
END:VEVENT
BEGIN:VEVENT
DTSTART;TZID=UTC:20221208T190000
DTEND;TZID=UTC:20221208T200000
DTSTAMP:20260424T203818
CREATED:20221207T091506Z
LAST-MODIFIED:20221207T091646Z
UID:3870-1670526000-1670529600@galeria17.org
SUMMARY:Artist Talk: Project Drini
DESCRIPTION:
URL:https://galeria17.org/en/event/artist-talk-project-drini/
END:VEVENT
BEGIN:VEVENT
DTSTART;TZID=UTC:20221206T190000
DTEND;TZID=UTC:20221206T200000
DTSTAMP:20260424T203818
CREATED:20221205T130959Z
LAST-MODIFIED:20221205T130959Z
UID:3848-1670353200-1670356800@galeria17.org
SUMMARY:Presentation: Fjollë Caka and Xhevdet Gegollaj
DESCRIPTION:
URL:https://galeria17.org/en/event/presentation-fjolle-caka-and-xhevdet-gegollaj/
END:VEVENT
BEGIN:VEVENT
DTSTART;TZID=UTC:20221201T090000
DTEND;TZID=UTC:20230116T170000
DTSTAMP:20260424T203818
CREATED:20221124T160641Z
LAST-MODIFIED:20221124T162319Z
UID:3823-1669885200-1673888400@galeria17.org
SUMMARY:In the making / hapja e ekspozitës
DESCRIPTION:
URL:https://galeria17.org/en/event/in-the-making-opening-of-the-exhibition/
ATTACH;FMTTYPE=image/jpeg:https://galeria17.org/wp-content/uploads/2022/11/314332618_199236869231938_7392966981110293952_n-1.jpg
END:VEVENT
BEGIN:VEVENT
DTSTART;TZID=UTC:20221129T190000
DTEND;TZID=UTC:20221129T200000
DTSTAMP:20260424T203818
CREATED:20221122T151613Z
LAST-MODIFIED:20221122T151613Z
UID:3807-1669748400-1669752000@galeria17.org
SUMMARY:Views from the forest
DESCRIPTION:
URL:https://galeria17.org/en/event/views-from-the-forest/
ATTACH;FMTTYPE=image/jpeg:https://galeria17.org/wp-content/uploads/2022/11/Musarinda.jpg
END:VEVENT
BEGIN:VEVENT
DTSTART;TZID=UTC:20221124T190000
DTEND;TZID=UTC:20221124T190000
DTSTAMP:20260424T203818
CREATED:20221122T132318Z
LAST-MODIFIED:20221122T132807Z
UID:3793-1669316400-1669316400@galeria17.org
SUMMARY:Neighbourhood\, Islands of Conviviality
DESCRIPTION:
URL:https://galeria17.org/en/event/neighbourhood-islands-of-conviviality/
ATTACH;FMTTYPE=image/jpeg:https://galeria17.org/wp-content/uploads/2022/11/Rotor.jpg
END:VEVENT
BEGIN:VEVENT
DTSTART;TZID=UTC:20221121T190000
DTEND;TZID=UTC:20221121T200000
DTSTAMP:20260424T203818
CREATED:20221121T120448Z
LAST-MODIFIED:20221121T120831Z
UID:3780-1669057200-1669060800@galeria17.org
SUMMARY:Messing it up-queering the environment
DESCRIPTION:
URL:https://galeria17.org/en/event/messing-it-up-queering-the-environment/
END:VEVENT
END:VCALENDAR