BEGIN:VCALENDAR
VERSION:2.0
PRODID:-//galeria17 - ECPv6.15.16.1//NONSGML v1.0//EN
CALSCALE:GREGORIAN
METHOD:PUBLISH
X-WR-CALNAME:galeria17
X-ORIGINAL-URL:https://galeria17.org
X-WR-CALDESC:Events for galeria17
REFRESH-INTERVAL;VALUE=DURATION:PT1H
X-Robots-Tag:noindex
X-PUBLISHED-TTL:PT1H
BEGIN:VTIMEZONE
TZID:UTC
BEGIN:STANDARD
TZOFFSETFROM:+0000
TZOFFSETTO:+0000
TZNAME:UTC
DTSTART:20220101T000000
END:STANDARD
END:VTIMEZONE
BEGIN:VEVENT
DTSTART;TZID=UTC:20250122T190000
DTEND;TZID=UTC:20250122T210000
DTSTAMP:20260424T164330
CREATED:20250116T133211Z
LAST-MODIFIED:20250116T133211Z
UID:5178-1737572400-1737579600@galeria17.org
SUMMARY:Hapja e ekspozitës "Percieve\, Record\, Imagine"
DESCRIPTION:
URL:https://galeria17.org/event/hapja-e-ekspozites-percieve-record-imagine/
END:VEVENT
BEGIN:VEVENT
DTSTART;TZID=UTC:20250122T180000
DTEND;TZID=UTC:20250122T190000
DTSTAMP:20260424T164330
CREATED:20250116T133017Z
LAST-MODIFIED:20250116T133017Z
UID:5174-1737568800-1737572400@galeria17.org
SUMMARY:Para hapja e ekspozitës "Percieve\, Record\, Imagine"
DESCRIPTION:
URL:https://galeria17.org/event/para-hapja-e-ekspozites-percieve-record-imagine/
END:VEVENT
BEGIN:VEVENT
DTSTART;TZID=UTC:20241209T060000
DTEND;TZID=UTC:20241209T210000
DTSTAMP:20260424T164330
CREATED:20241127T153825Z
LAST-MODIFIED:20241127T153825Z
UID:5127-1733724000-1733778000@galeria17.org
SUMMARY:Pop-up Art Week / Ornela Alia
DESCRIPTION:
URL:https://galeria17.org/event/pop-up-art-week-ornela-alia/
END:VEVENT
BEGIN:VEVENT
DTSTART;TZID=UTC:20241206T180000
DTEND;TZID=UTC:20241206T210000
DTSTAMP:20260424T164330
CREATED:20241127T153708Z
LAST-MODIFIED:20241127T153708Z
UID:5125-1733508000-1733518800@galeria17.org
SUMMARY:Pop-up Art Week/ Manushaqe Ibrahimi
DESCRIPTION:
URL:https://galeria17.org/event/pop-up-art-week-manushaqe-ibrahimi/
END:VEVENT
BEGIN:VEVENT
DTSTART;TZID=UTC:20241204T180000
DTEND;TZID=UTC:20241204T210000
DTSTAMP:20260424T164330
CREATED:20241127T112748Z
LAST-MODIFIED:20241127T112748Z
UID:5087-1733335200-1733346000@galeria17.org
SUMMARY:Pop-up Art Week/ Blerta Kambo
DESCRIPTION:
URL:https://galeria17.org/event/pop-up-art-week-blerta-kambo/
END:VEVENT
BEGIN:VEVENT
DTSTART;TZID=UTC:20241202T180000
DTEND;TZID=UTC:20241202T210000
DTSTAMP:20260424T164330
CREATED:20241127T112624Z
LAST-MODIFIED:20241127T112624Z
UID:5085-1733162400-1733173200@galeria17.org
SUMMARY:Pop-up Art Week / Kemil Bektesi
DESCRIPTION:
URL:https://galeria17.org/event/pop-up-art-week-kemil-bektesi/
END:VEVENT
BEGIN:VEVENT
DTSTART;TZID=UTC:20241009T180000
DTEND;TZID=UTC:20241009T190000
DTSTAMP:20260424T164330
CREATED:20241127T112119Z
LAST-MODIFIED:20241127T112119Z
UID:5083-1728496800-1728500400@galeria17.org
SUMMARY:Artist talk & Guided tour Dion Zeqiri and Nina Kuttler
DESCRIPTION:
URL:https://galeria17.org/event/artist-talk-guided-tour-dion-zeqiri-and-nina-kuttler/
END:VEVENT
BEGIN:VEVENT
DTSTART;TZID=UTC:20241008T160000
DTEND;TZID=UTC:20241122T200000
DTSTAMP:20260424T164330
CREATED:20241127T111942Z
LAST-MODIFIED:20241127T111942Z
UID:5081-1728403200-1732305600@galeria17.org
SUMMARY:In the Making III / Hapja e ekspozitës
DESCRIPTION:
URL:https://galeria17.org/event/in-the-making-iii-hapja-e-ekspozites/
END:VEVENT
BEGIN:VEVENT
DTSTART;TZID=UTC:20240916T110000
DTEND;TZID=UTC:20241004T170000
DTSTAMP:20260424T164330
CREATED:20241127T111720Z
LAST-MODIFIED:20241127T111720Z
UID:5079-1726484400-1728061200@galeria17.org
SUMMARY:In the Making III / Studio e hapur
DESCRIPTION:
URL:https://galeria17.org/event/in-the-making-iii-studio-e-hapur/
END:VEVENT
BEGIN:VEVENT
DTSTART;TZID=UTC:20240707T160000
DTEND;TZID=UTC:20240707T180000
DTSTAMP:20260424T164330
CREATED:20240704T161241Z
LAST-MODIFIED:20240704T161241Z
UID:4993-1720368000-1720375200@galeria17.org
SUMMARY:Vizita të udhëhequra me kuratoren
DESCRIPTION:
URL:https://galeria17.org/event/vizita-te-udhehequra-me-kuratoren/
END:VEVENT
BEGIN:VEVENT
DTSTART;TZID=UTC:20240706T170000
DTEND;TZID=UTC:20240706T220000
DTSTAMP:20260424T164330
CREATED:20240704T161107Z
LAST-MODIFIED:20240704T161107Z
UID:4991-1720285200-1720303200@galeria17.org
SUMMARY:I kemi edhe 12 orë të tjera - Performancat
DESCRIPTION:
URL:https://galeria17.org/event/i-kemi-edhe-12-ore-te-tjera-performancat/
END:VEVENT
BEGIN:VEVENT
DTSTART;TZID=UTC:20240706T150000
DTEND;TZID=UTC:20240706T160000
DTSTAMP:20260424T164330
CREATED:20240704T160923Z
LAST-MODIFIED:20240704T160923Z
UID:4989-1720278000-1720281600@galeria17.org
SUMMARY:Bisedë & Vizitë e udhëhequr me kuratoren Catherine Nichols
DESCRIPTION:
URL:https://galeria17.org/event/bisede-vizite-e-udhehequr-me-kuratoren-catherine-nichols/
END:VEVENT
BEGIN:VEVENT
DTSTART;TZID=UTC:20240705T190000
DTEND;TZID=UTC:20240905T200000
DTSTAMP:20260424T164330
CREATED:20240704T160114Z
LAST-MODIFIED:20240704T160114Z
UID:4981-1720206000-1725566400@galeria17.org
SUMMARY:Ekspozita - "I kemi edhe 12 orë të tjera"
DESCRIPTION:
URL:https://galeria17.org/event/ekspozita-i-kemi-edhe-12-ore-te-tjera/
END:VEVENT
BEGIN:VEVENT
DTSTART;TZID=UTC:20240404T180000
DTEND;TZID=UTC:20240404T193000
DTSTAMP:20260424T164330
CREATED:20240404T124114Z
LAST-MODIFIED:20240404T124114Z
UID:4939-1712253600-1712259000@galeria17.org
SUMMARY:Artist Talk & Guided Tour - Martina Menegon
DESCRIPTION:
URL:https://galeria17.org/event/artist-talk-guided-tour-martina-menegon/
END:VEVENT
BEGIN:VEVENT
DTSTART;TZID=UTC:20240403T190000
DTEND;TZID=UTC:20240607T190000
DTSTAMP:20260424T164330
CREATED:20240328T134037Z
LAST-MODIFIED:20240328T134037Z
UID:4920-1712170800-1717786800@galeria17.org
SUMMARY:you know me so well - nga Martina Menegon
DESCRIPTION:
URL:https://galeria17.org/event/you-know-me-so-well-nga-martina-menegon/
END:VEVENT
BEGIN:VEVENT
DTSTART;TZID=UTC:20240124T180000
DTEND;TZID=UTC:20240124T193000
DTSTAMP:20260424T164330
CREATED:20240125T133820Z
LAST-MODIFIED:20240125T133820Z
UID:4845-1706119200-1706124600@galeria17.org
SUMMARY:Curator & Artist talk: “Personal Horizons / Local vs International”
DESCRIPTION:
URL:https://galeria17.org/event/curator-artist-talk-personal-horizons-local-vs-international/
END:VEVENT
BEGIN:VEVENT
DTSTART;TZID=UTC:20240123T190000
DTEND;TZID=UTC:20240322T170000
DTSTAMP:20260424T164330
CREATED:20240112T135023Z
LAST-MODIFIED:20240112T135023Z
UID:4800-1706036400-1711126800@galeria17.org
SUMMARY:Opening of the exhibition – Visibility Horizon
DESCRIPTION:
URL:https://galeria17.org/event/opening-of-the-exhibition-visibility-horizon/
END:VEVENT
BEGIN:VEVENT
DTSTART;TZID=UTC:20231220T180000
DTEND;TZID=UTC:20231220T220000
DTSTAMP:20260424T164330
CREATED:20240111T150630Z
LAST-MODIFIED:20240111T150630Z
UID:4790-1703095200-1703109600@galeria17.org
SUMMARY:Pop-up Art Week / Between Pattern Shadow – Olson Lamaj
DESCRIPTION:
URL:https://galeria17.org/event/pop-up-art-week-between-pattern-shadow-olson-lamaj/
END:VEVENT
BEGIN:VEVENT
DTSTART;TZID=UTC:20231218T180000
DTEND;TZID=UTC:20231218T220000
DTSTAMP:20260424T164330
CREATED:20231215T140328Z
LAST-MODIFIED:20231215T140328Z
UID:4772-1702922400-1702936800@galeria17.org
SUMMARY:Pop-up Art Week / LOÇKË - Rina Treml & Ylber Mehmeti
DESCRIPTION:
URL:https://galeria17.org/event/pop-up-art-week-locke-rina-treml-ylber-mehmeti/
END:VEVENT
BEGIN:VEVENT
DTSTART;TZID=UTC:20231215T180000
DTEND;TZID=UTC:20231215T220000
DTSTAMP:20260424T164330
CREATED:20231212T151555Z
LAST-MODIFIED:20231212T151555Z
UID:4763-1702663200-1702677600@galeria17.org
SUMMARY:Pop-up Art Week / Space Available - Likana Cana
DESCRIPTION:
URL:https://galeria17.org/event/pop-up-art-week-space-available-likana-cana/
END:VEVENT
BEGIN:VEVENT
DTSTART;TZID=UTC:20231213T180000
DTEND;TZID=UTC:20231213T220000
DTSTAMP:20260424T164330
CREATED:20231208T125746Z
LAST-MODIFIED:20231208T125746Z
UID:4751-1702490400-1702504800@galeria17.org
SUMMARY:Pop-up Art Week / Illumination Sounds – Fjolla Voca & Zanë Xhuli
DESCRIPTION:
URL:https://galeria17.org/event/pop-up-art-week-illumination-sounds-fjolla-voca-zane-xhuli/
END:VEVENT
BEGIN:VEVENT
DTSTART;TZID=UTC:20231211T180000
DTEND;TZID=UTC:20231211T220000
DTSTAMP:20260424T164330
CREATED:20231206T111454Z
LAST-MODIFIED:20231206T111454Z
UID:4726-1702317600-1702332000@galeria17.org
SUMMARY:Pop-up Art Week / Nuk i dua retë - Endrit Jashanica
DESCRIPTION:
URL:https://galeria17.org/event/pop-up-art-week-nuk-i-dua-rete-endrit-jashanica/
END:VEVENT
BEGIN:VEVENT
DTSTART;TZID=UTC:20231208T180000
DTEND;TZID=UTC:20231208T220000
DTSTAMP:20260424T164330
CREATED:20231205T143237Z
LAST-MODIFIED:20231205T143237Z
UID:4722-1702058400-1702072800@galeria17.org
SUMMARY:Pop-up Art Week / Descent into Limbo - Gerta Xhaferaj
DESCRIPTION:
URL:https://galeria17.org/event/pop-up-art-week-descent-into-limbo-gerta-xhaferaj/
END:VEVENT
BEGIN:VEVENT
DTSTART;TZID=UTC:20231114T180000
DTEND;TZID=UTC:20231114T193000
DTSTAMP:20260424T164330
CREATED:20231109T151848Z
LAST-MODIFIED:20231109T151848Z
UID:4697-1699984800-1699990200@galeria17.org
SUMMARY:Artist Talk: Dardan Zhegrova
DESCRIPTION:
URL:https://galeria17.org/event/artist-talk-dardan-zhegrova/
END:VEVENT
BEGIN:VEVENT
DTSTART;TZID=UTC:20231017T190000
DTEND;TZID=UTC:20231201T170000
DTSTAMP:20260424T164330
CREATED:20231012T112049Z
LAST-MODIFIED:20231012T112049Z
UID:4685-1697569200-1701450000@galeria17.org
SUMMARY:In the Making II / Hapja e ekspozitës
DESCRIPTION:
URL:https://galeria17.org/event/in-the-making-ii-hapja-e-ekspozites/
END:VEVENT
BEGIN:VEVENT
DTSTART;TZID=UTC:20231003T150000
DTEND;TZID=UTC:20231003T150000
DTSTAMP:20260424T164330
CREATED:20230925T145930Z
LAST-MODIFIED:20230925T145930Z
UID:4641-1696345200-1696345200@galeria17.org
SUMMARY:Marie Vermont - Open studio
DESCRIPTION:
URL:https://galeria17.org/event/marie-vermont-open-studio/
END:VEVENT
BEGIN:VEVENT
DTSTART;TZID=UTC:20231002T110000
DTEND;TZID=UTC:20231002T170000
DTSTAMP:20260424T164330
CREATED:20230925T145811Z
LAST-MODIFIED:20230925T145811Z
UID:4639-1696244400-1696266000@galeria17.org
SUMMARY:Dardan Zhegrova - Open Studio
DESCRIPTION:
URL:https://galeria17.org/event/dardan-zhegrova-open-studio-2/
END:VEVENT
BEGIN:VEVENT
DTSTART;TZID=UTC:20230927T110000
DTEND;TZID=UTC:20230927T170000
DTSTAMP:20260424T164330
CREATED:20230925T145325Z
LAST-MODIFIED:20230925T145325Z
UID:4633-1695812400-1695834000@galeria17.org
SUMMARY:Dardan Zhegrova - Open studio
DESCRIPTION:
URL:https://galeria17.org/event/dardan-zhegrova-open-studio/
END:VEVENT
BEGIN:VEVENT
DTSTART;TZID=UTC:20230905T180000
DTEND;TZID=UTC:20230905T190000
DTSTAMP:20260424T164330
CREATED:20230829T120207Z
LAST-MODIFIED:20230829T120430Z
UID:4602-1693936800-1693940400@galeria17.org
SUMMARY:Sesion informues: Pop-up Art Week
DESCRIPTION:
URL:https://galeria17.org/event/info-session-pop-up-art-week/
END:VEVENT
BEGIN:VEVENT
DTSTART;TZID=UTC:20230706T190000
DTEND;TZID=UTC:20230706T200000
DTSTAMP:20260424T164330
CREATED:20230704T101848Z
LAST-MODIFIED:20230704T101848Z
UID:4548-1688670000-1688673600@galeria17.org
SUMMARY:Curator talk: Everything has been done
DESCRIPTION:
URL:https://galeria17.org/event/curator-talk-everything-has-been-done/
END:VEVENT
END:VCALENDAR